BEGIN:VCALENDAR
VERSION:2.0
PRODID:-//Advanced Technology Consulting (ATC) - ECPv6.15.20//NONSGML v1.0//EN
CALSCALE:GREGORIAN
METHOD:PUBLISH
X-ORIGINAL-URL:https://4atc.com
X-WR-CALDESC:Events for Advanced Technology Consulting (ATC)
REFRESH-INTERVAL;VALUE=DURATION:PT1H
X-Robots-Tag:noindex
X-PUBLISHED-TTL:PT1H
BEGIN:VTIMEZONE
TZID:America/New_York
BEGIN:DAYLIGHT
TZOFFSETFROM:-0500
TZOFFSETTO:-0400
TZNAME:EDT
DTSTART:20230312T070000
END:DAYLIGHT
BEGIN:STANDARD
TZOFFSETFROM:-0400
TZOFFSETTO:-0500
TZNAME:EST
DTSTART:20231105T060000
END:STANDARD
BEGIN:DAYLIGHT
TZOFFSETFROM:-0500
TZOFFSETTO:-0400
TZNAME:EDT
DTSTART:20240310T070000
END:DAYLIGHT
BEGIN:STANDARD
TZOFFSETFROM:-0400
TZOFFSETTO:-0500
TZNAME:EST
DTSTART:20241103T060000
END:STANDARD
BEGIN:DAYLIGHT
TZOFFSETFROM:-0500
TZOFFSETTO:-0400
TZNAME:EDT
DTSTART:20250309T070000
END:DAYLIGHT
BEGIN:STANDARD
TZOFFSETFROM:-0400
TZOFFSETTO:-0500
TZNAME:EST
DTSTART:20251102T060000
END:STANDARD
END:VTIMEZONE
BEGIN:VEVENT
DTSTART;VALUE=DATE:20240411
DTEND;VALUE=DATE:20240412
DTSTAMP:20260421T105536
CREATED:20240325T185048Z
LAST-MODIFIED:20240326T151819Z
UID:10000006-1712793600-1712879999@4atc.com
SUMMARY:Reds Club Cambria Super Suite
DESCRIPTION:Base Hits and Business!\n\nCIOs\, CTOs\, CISOs\, VPs of IT\, Directors of IT etc.\n\nBatter up! ⚾ Come watch the Cincinnati Reds take on the Milwaukee Brewers with an afternoon of networking\, food\, and fun. Enjoy the game from the comfort of our Club Cambria Super Suite. Take in the lively atmosphere\, network with other IT leaders\, and cheer on our hometown Reds! We look forward to hosting you! \nThis is a private event for IT leaders. If you are interested in attending\, please email marketing@4atc.com.
URL:https://4atc.com/event/reds-club-cambria-super-suite/
LOCATION:Great American Ballpark\, 100 Joe Nuxhall Way\, Cincinnati\, OH\, 45202\, United States
CATEGORIES:Networking
ATTACH;FMTTYPE=image/jpeg:https://4atc.com/wp-content/uploads/2024/03/Reds-Club-Cambria.jpg
END:VEVENT
END:VCALENDAR