BEGIN:VCALENDAR
VERSION:2.0
PRODID:-//Advanced Technology Consulting (ATC) - ECPv6.15.20//NONSGML v1.0//EN
CALSCALE:GREGORIAN
METHOD:PUBLISH
X-WR-CALNAME:Advanced Technology Consulting (ATC)
X-ORIGINAL-URL:https://4atc.com
X-WR-CALDESC:Events for Advanced Technology Consulting (ATC)
REFRESH-INTERVAL;VALUE=DURATION:PT1H
X-Robots-Tag:noindex
X-PUBLISHED-TTL:PT1H
BEGIN:VTIMEZONE
TZID:America/New_York
BEGIN:DAYLIGHT
TZOFFSETFROM:-0500
TZOFFSETTO:-0400
TZNAME:EDT
DTSTART:20230312T070000
END:DAYLIGHT
BEGIN:STANDARD
TZOFFSETFROM:-0400
TZOFFSETTO:-0500
TZNAME:EST
DTSTART:20231105T060000
END:STANDARD
BEGIN:DAYLIGHT
TZOFFSETFROM:-0500
TZOFFSETTO:-0400
TZNAME:EDT
DTSTART:20240310T070000
END:DAYLIGHT
BEGIN:STANDARD
TZOFFSETFROM:-0400
TZOFFSETTO:-0500
TZNAME:EST
DTSTART:20241103T060000
END:STANDARD
BEGIN:DAYLIGHT
TZOFFSETFROM:-0500
TZOFFSETTO:-0400
TZNAME:EDT
DTSTART:20250309T070000
END:DAYLIGHT
BEGIN:STANDARD
TZOFFSETFROM:-0400
TZOFFSETTO:-0500
TZNAME:EST
DTSTART:20251102T060000
END:STANDARD
END:VTIMEZONE
BEGIN:VEVENT
DTSTART;VALUE=DATE:20240516
DTEND;VALUE=DATE:20240517
DTSTAMP:20260421T094648
CREATED:20240325T202445Z
LAST-MODIFIED:20240326T151746Z
UID:10000007-1715817600-1715903999@4atc.com
SUMMARY:ATC's 25-Year Anniversary
DESCRIPTION:ATC Clients\, Partners\, and Friends\nVista at the Lytle Park\nCharity Event for RIDE CINCINNATI\n\nJoin us in celebrating a remarkable journey of 25 years! We’re marking this incredible milestone with a grand anniversary celebration. It’s a testament to our dedication\, growth\, and the wonderful relationships we’ve built along the way. The upcoming event will also contribute to supporting RIDE CINCINNATI\, an organization dedicated to funding cancer research and care! Let’s raise a toast to the past\, present\, and the promising future ahead! \nThis is a private event for IT leaders. If you are interested in attending\, please email marketing@4atc.com.
URL:https://4atc.com/event/atcs-25-year-anniversary/
LOCATION:Vista at Lytle Park\, 311 Pike Street\, Cincinnati\, OH\, 45202\, United States
CATEGORIES:Charity
ATTACH;FMTTYPE=image/jpeg:https://4atc.com/wp-content/uploads/2024/03/ATC-25-Year-Anniversary.jpg
END:VEVENT
END:VCALENDAR