BEGIN:VCALENDAR
VERSION:2.0
PRODID:-//Advanced Technology Consulting (ATC) - ECPv6.15.20//NONSGML v1.0//EN
CALSCALE:GREGORIAN
METHOD:PUBLISH
X-ORIGINAL-URL:https://4atc.com
X-WR-CALDESC:Events for Advanced Technology Consulting (ATC)
REFRESH-INTERVAL;VALUE=DURATION:PT1H
X-Robots-Tag:noindex
X-PUBLISHED-TTL:PT1H
BEGIN:VTIMEZONE
TZID:America/New_York
BEGIN:DAYLIGHT
TZOFFSETFROM:-0500
TZOFFSETTO:-0400
TZNAME:EDT
DTSTART:20230312T070000
END:DAYLIGHT
BEGIN:STANDARD
TZOFFSETFROM:-0400
TZOFFSETTO:-0500
TZNAME:EST
DTSTART:20231105T060000
END:STANDARD
BEGIN:DAYLIGHT
TZOFFSETFROM:-0500
TZOFFSETTO:-0400
TZNAME:EDT
DTSTART:20240310T070000
END:DAYLIGHT
BEGIN:STANDARD
TZOFFSETFROM:-0400
TZOFFSETTO:-0500
TZNAME:EST
DTSTART:20241103T060000
END:STANDARD
BEGIN:DAYLIGHT
TZOFFSETFROM:-0500
TZOFFSETTO:-0400
TZNAME:EDT
DTSTART:20250309T070000
END:DAYLIGHT
BEGIN:STANDARD
TZOFFSETFROM:-0400
TZOFFSETTO:-0500
TZNAME:EST
DTSTART:20251102T060000
END:STANDARD
END:VTIMEZONE
BEGIN:VEVENT
DTSTART;TZID=America/New_York:20240523T133000
DTEND;TZID=America/New_York:20240523T140000
DTSTAMP:20260421T093328
CREATED:20240423T151926Z
LAST-MODIFIED:20240423T152031Z
UID:10000015-1716471000-1716472800@4atc.com
SUMMARY:Lets Lock IT Down!
DESCRIPTION:Join us for a power-packed 30-minute webinar where Alex Cooley and Cameron Laughlin\, ATC Delta Team Consultant’s\, on the latest trends in cybersecurity. \nGain valuable insights on the latest cybersecurity trends and gain insight on strengthening your cybersecurity posture. Participants will have the opportunity to interact and ask questions during the session. \nJoin us and register today for this cyber webinar! \nWhen: Thursday\, May 23rd\, 2024 | 1:30 – 2:00 p.m. EDT
URL:https://4atc.com/event/lets-lock-it-down/
LOCATION:OH
CATEGORIES:Virtual
ATTACH;FMTTYPE=image/png:https://4atc.com/wp-content/uploads/2024/04/Lets-Lock-IT-Down-Event-Page.png
END:VEVENT
END:VCALENDAR