BEGIN:VCALENDAR
VERSION:2.0
PRODID:-//Advanced Technology Consulting (ATC) - ECPv6.15.20//NONSGML v1.0//EN
CALSCALE:GREGORIAN
METHOD:PUBLISH
X-ORIGINAL-URL:https://4atc.com
X-WR-CALDESC:Events for Advanced Technology Consulting (ATC)
REFRESH-INTERVAL;VALUE=DURATION:PT1H
X-Robots-Tag:noindex
X-PUBLISHED-TTL:PT1H
BEGIN:VTIMEZONE
TZID:America/New_York
BEGIN:DAYLIGHT
TZOFFSETFROM:-0500
TZOFFSETTO:-0400
TZNAME:EDT
DTSTART:20240310T070000
END:DAYLIGHT
BEGIN:STANDARD
TZOFFSETFROM:-0400
TZOFFSETTO:-0500
TZNAME:EST
DTSTART:20241103T060000
END:STANDARD
BEGIN:DAYLIGHT
TZOFFSETFROM:-0500
TZOFFSETTO:-0400
TZNAME:EDT
DTSTART:20250309T070000
END:DAYLIGHT
BEGIN:STANDARD
TZOFFSETFROM:-0400
TZOFFSETTO:-0500
TZNAME:EST
DTSTART:20251102T060000
END:STANDARD
BEGIN:DAYLIGHT
TZOFFSETFROM:-0500
TZOFFSETTO:-0400
TZNAME:EDT
DTSTART:20260308T070000
END:DAYLIGHT
BEGIN:STANDARD
TZOFFSETFROM:-0400
TZOFFSETTO:-0500
TZNAME:EST
DTSTART:20261101T060000
END:STANDARD
END:VTIMEZONE
BEGIN:VEVENT
DTSTART;TZID=America/New_York:20250305T073000
DTEND;TZID=America/New_York:20250305T170000
DTSTAMP:20260425T113803
CREATED:20250113T195827Z
LAST-MODIFIED:20250428T161023Z
UID:10000030-1741159800-1741194000@4atc.com
SUMMARY:Tech First - Ohio Information Security Conference (OISC)
DESCRIPTION:Ohio Information Security Conference (OISC) is tailor-made for CISOs\, security analysts\, threat hunters\, risk managers\, and forward-thinking professionals dedicated to shifting the security paradigm. Whether you’re responsible for securing critical infrastructure\, safeguarding sensitive data\, or shaping strategic security initiatives\, OISC offers curated content to amplify your impact. \n 
URL:https://4atc.com/event/tech-first-ohio-information-security-conference-oisc/
LOCATION:Sinclair Conference Center – Apollo Room\, Student Union\, 3640 Colonel Glenn Hwy.\, Dayton\, Ohio\, 45324
CATEGORIES:Conference
ATTACH;FMTTYPE=image/jpeg:https://4atc.com/wp-content/uploads/2025/01/Tech-First-Ohio-Information-Security-Conference-OISC.jpg
END:VEVENT
END:VCALENDAR