BEGIN:VCALENDAR
VERSION:2.0
PRODID:-//Advanced Technology Consulting (ATC) - ECPv6.15.20//NONSGML v1.0//EN
CALSCALE:GREGORIAN
METHOD:PUBLISH
X-ORIGINAL-URL:https://4atc.com
X-WR-CALDESC:Events for Advanced Technology Consulting (ATC)
REFRESH-INTERVAL;VALUE=DURATION:PT1H
X-Robots-Tag:noindex
X-PUBLISHED-TTL:PT1H
BEGIN:VTIMEZONE
TZID:America/New_York
BEGIN:DAYLIGHT
TZOFFSETFROM:-0500
TZOFFSETTO:-0400
TZNAME:EDT
DTSTART:20230312T070000
END:DAYLIGHT
BEGIN:STANDARD
TZOFFSETFROM:-0400
TZOFFSETTO:-0500
TZNAME:EST
DTSTART:20231105T060000
END:STANDARD
BEGIN:DAYLIGHT
TZOFFSETFROM:-0500
TZOFFSETTO:-0400
TZNAME:EDT
DTSTART:20240310T070000
END:DAYLIGHT
BEGIN:STANDARD
TZOFFSETFROM:-0400
TZOFFSETTO:-0500
TZNAME:EST
DTSTART:20241103T060000
END:STANDARD
BEGIN:DAYLIGHT
TZOFFSETFROM:-0500
TZOFFSETTO:-0400
TZNAME:EDT
DTSTART:20250309T070000
END:DAYLIGHT
BEGIN:STANDARD
TZOFFSETFROM:-0400
TZOFFSETTO:-0500
TZNAME:EST
DTSTART:20251102T060000
END:STANDARD
END:VTIMEZONE
BEGIN:VEVENT
DTSTART;VALUE=DATE:20241205
DTEND;VALUE=DATE:20241206
DTSTAMP:20260423T104041
CREATED:20240326T020302Z
LAST-MODIFIED:20240529T170534Z
UID:10000013-1733356800-1733443199@4atc.com
SUMMARY:ATC Delta Elite Holiday Gathering
DESCRIPTION:35-40 VIP Guests\n\nDelta Elite events are exclusive gatherings tailored for ATC’s esteemed VIP clients\, IT leaders\, and valued partners. This annual holiday gathering is an upscale affair and includes both Team ATC and VIP guests at an exquisite\, private dining space. \nThis is a private event for IT leaders. If you are interested in attending\, please email marketing@4atc.com.
URL:https://4atc.com/event/delta-elite-holiday-gathering/
LOCATION:OH
CATEGORIES:Networking
ATTACH;FMTTYPE=image/jpeg:https://4atc.com/wp-content/uploads/2024/03/Holiday-Gathering-event.jpg
END:VEVENT
END:VCALENDAR