BEGIN:VCALENDAR
VERSION:2.0
PRODID:-//Advanced Technology Consulting (ATC) - ECPv6.15.20//NONSGML v1.0//EN
CALSCALE:GREGORIAN
METHOD:PUBLISH
X-ORIGINAL-URL:https://4atc.com
X-WR-CALDESC:Events for Advanced Technology Consulting (ATC)
REFRESH-INTERVAL;VALUE=DURATION:PT1H
X-Robots-Tag:noindex
X-PUBLISHED-TTL:PT1H
BEGIN:VTIMEZONE
TZID:America/New_York
BEGIN:DAYLIGHT
TZOFFSETFROM:-0500
TZOFFSETTO:-0400
TZNAME:EDT
DTSTART:20240310T070000
END:DAYLIGHT
BEGIN:STANDARD
TZOFFSETFROM:-0400
TZOFFSETTO:-0500
TZNAME:EST
DTSTART:20241103T060000
END:STANDARD
BEGIN:DAYLIGHT
TZOFFSETFROM:-0500
TZOFFSETTO:-0400
TZNAME:EDT
DTSTART:20250309T070000
END:DAYLIGHT
BEGIN:STANDARD
TZOFFSETFROM:-0400
TZOFFSETTO:-0500
TZNAME:EST
DTSTART:20251102T060000
END:STANDARD
BEGIN:DAYLIGHT
TZOFFSETFROM:-0500
TZOFFSETTO:-0400
TZNAME:EDT
DTSTART:20260308T070000
END:DAYLIGHT
BEGIN:STANDARD
TZOFFSETFROM:-0400
TZOFFSETTO:-0500
TZNAME:EST
DTSTART:20261101T060000
END:STANDARD
END:VTIMEZONE
BEGIN:VEVENT
DTSTART;VALUE=DATE:20250701
DTEND;VALUE=DATE:20250801
DTSTAMP:20260421T065154
CREATED:20250114T230900Z
LAST-MODIFIED:20250428T160756Z
UID:10000037-1751328000-1754006399@4atc.com
SUMMARY:FC Cincinnati Suite
DESCRIPTION:This ATC FC Cincinnati Event will gather IT Leaders for premium networking and socializing. Enjoy the camaraderie and excitement of thousands of fans from the comfort of a suite\, which includes food\, beverages\, an excellent view of the field\, and more. \nContact Us for More Information:\n(Include the event name in your comments.) \nPlease enable JavaScript in your browser to complete this form.Name *Email *Phone NumberComment or MessageSubmit
URL:https://4atc.com/event/fc-cincinnati-suite-2025/
LOCATION:TQL Stadium\, 1501 Central Pkwy\, Cincinnati\, OH\, 45214
CATEGORIES:Networking
ATTACH;FMTTYPE=image/jpeg:https://4atc.com/wp-content/uploads/2025/01/FC-Cincinnati-Suite-Event-1.jpg
END:VEVENT
END:VCALENDAR